BEGIN:VCALENDAR
VERSION:2.0
PRODID:-//Fourmidables - ECPv5.16.4//NONSGML v1.0//EN
CALSCALE:GREGORIAN
METHOD:PUBLISH
X-WR-CALNAME:Fourmidables
X-ORIGINAL-URL:https://fourmidables.com
X-WR-CALDESC:évènements pour Fourmidables
REFRESH-INTERVAL;VALUE=DURATION:PT1H
X-Robots-Tag:noindex
X-PUBLISHED-TTL:PT1H
BEGIN:VTIMEZONE
TZID:Europe/Paris
BEGIN:DAYLIGHT
TZOFFSETFROM:+0100
TZOFFSETTO:+0200
TZNAME:CEST
DTSTART:20210328T010000
END:DAYLIGHT
BEGIN:STANDARD
TZOFFSETFROM:+0200
TZOFFSETTO:+0100
TZNAME:CET
DTSTART:20211031T010000
END:STANDARD
END:VTIMEZONE
BEGIN:VEVENT
DTSTART;TZID=Europe/Paris:20210704T103000
DTEND;TZID=Europe/Paris:20210704T170000
DTSTAMP:20260424T110524
CREATED:20210609T152723Z
LAST-MODIFIED:20210703T115559Z
UID:3518-1625394600-1625418000@fourmidables.com
SUMMARY:Koh-Lanta dans les vignes
DESCRIPTION:Venez participer à un koh-lanta dans les vignes du Château Brethous à Camblanes-et-Meynac ! \n\n\n\nAu travers de différentes épreuves (jeux de réflexion\, de stratégie\, de dextérité\, de découverte…)\, vous découvrirez la vision que ces vignerons portent sur la nature\, comment une bonne gestion de la biodiversité leur est bénéfique et quelle est la place accordée à la nature dans leur quotidien. Tout cela\, sera accompagné par le discours de deux Docteures en Sciences qui vous guideront tout le long du parcours. \n\n\n\nPetite surprise : Une des épreuves sera une dégustation insolite de ….. ! On ne vous dit pas tout ! \n\n\n\nAlors\, prêts à tenter l’aventure ?  \n\n\n\nEt surtout\, n’hésitez-pas à partager autour de vous ! \n\n\n\n\nFlyer de l’évènement\n\n\n\n\nNous vous proposons deux séances de jeu au choix : \n\n\n\n10h3014h30.Le koh-lanta dans les vignes dure environ 1 heure 30. Nous vous demanderons d’arriver 15 minutes à l’avance.\n\n\n\n\n\n\n\nCeux qui le souhaitent\, pourront ensuite profiter d’une dégustation des vins bio du Château Brethous\, avec possibilité d’achats de bouteilles. \n\n\n\n\n\n\n\nUn FOOD-TRUCK de l’Asso Coquelicot sera prévu sur place (si il y a assez de pré-réservations). \n\n\n\nVoici le menu afin de vous donner envie de pré-réserver votre déjeuner avec nous !  \n\n\n\nEt n’hésitez-pas à les contacter : 06.34.57.92.58 / lassociationcoquelicot@gmail.com \n\n\n\n\nMenu du Food Truck
URL:https://fourmidables.com/event/koh-lanta-dans-les-vignes/
LOCATION:Château Brethous\, 12 chemin de Paguemaou\, Camblanes-et-Meynac\, 33360\, France
CATEGORIES:En famille
ATTACH;FMTTYPE=image/png:https://fourmidables.com/wp-content/uploads/2021/06/koh-lanta-vignes-brethous-fourmidables-040721.png
ORGANIZER;CN="Fourmidables":MAILTO:contact.fourmidables@gmail.com
END:VEVENT
END:VCALENDAR