BEGIN:VCALENDAR
VERSION:2.0
PRODID:-//Fourmidables - ECPv5.16.4//NONSGML v1.0//EN
CALSCALE:GREGORIAN
METHOD:PUBLISH
X-ORIGINAL-URL:https://fourmidables.com
X-WR-CALDESC:évènements pour Fourmidables
REFRESH-INTERVAL;VALUE=DURATION:PT1H
X-Robots-Tag:noindex
X-PUBLISHED-TTL:PT1H
BEGIN:VTIMEZONE
TZID:Europe/Paris
BEGIN:DAYLIGHT
TZOFFSETFROM:+0100
TZOFFSETTO:+0200
TZNAME:CEST
DTSTART:20210328T010000
END:DAYLIGHT
BEGIN:STANDARD
TZOFFSETFROM:+0200
TZOFFSETTO:+0100
TZNAME:CET
DTSTART:20211031T010000
END:STANDARD
END:VTIMEZONE
BEGIN:VEVENT
DTSTART;TZID=Europe/Paris:20211027T103000
DTEND;TZID=Europe/Paris:20211029T153000
DTSTAMP:20260424T062949
CREATED:20211013T131837Z
LAST-MODIFIED:20211013T131840Z
UID:3795-1635330600-1635521400@fourmidables.com
SUMMARY:Stage Sciences : découverte des insectes
DESCRIPTION:Fourmidables emmène vos enfants à la découverte d’un monde extraordinaire\, celui des petites bêtes ! \n\n\n\nDétail du contenu :Lors du premier jour\, ils voyageront aux quatre coins de la Planète grâce à une magnifique collection d’insectes\, ils découvriront des formes et des couleurs plus belles les unes que les autres et réaliseront leur propre boîte à papillons lors d’un atelier créatif.  \n\n\n\nLa deuxième journée sera dédiée aux Fourmis. Jeux et expériences\, ainsi que l’observation d’une vraie fourmilière\, accompagneront nos petits aventuriers dans la découverte de la grande histoire des fourmis. Notre Escape Game « Commando Fourmis » viendra compléter cette Fourmidable journée !  \n\n\n\nLe dernier jour et à l’occasion d’Halloween\, nous deviendrons des petits sorciers qui cherchent à dévoiler l’univers mystérieux des araignées\, un univers soyeux\, peuplé d’êtres fascinants. Potions\, baguettes et pouvoirs magiques vous attendent lors de cette dernière aventure. \n\n\n\nQuand ? du 27 au 29 octobre 2021\, 3 jours de stage pour les enfants de 6 à 12 ans. 10h30-12h30 et 13h30-15h30 chaque jour. Possibilité d’apporter le pique-nique pour déjeuner sur place le midi. \n\n\n\nOù ? A la maison des Troubadours\, 31 Av. du Général de Gaulle\, 33500 Libourne. \n\n\n\nCombien ? 200€ pour les 3 jours de stage.Inscription avant le 22 octobre au 06 81 98 78 50.Nombre de place limités à 12 enfants !
URL:https://fourmidables.com/event/stage-toussaint-sciences-insectes-libourne-gironde/
LOCATION:Troubadours\, 31 Avenue du Général de Gaulle\, Libourne\, 33500\, France
ATTACH;FMTTYPE=image/png:https://fourmidables.com/wp-content/uploads/2021/09/formule-scolaire-cycle-1.png
END:VEVENT
END:VCALENDAR