BEGIN:VCALENDAR
VERSION:2.0
PRODID:-//Fourmidables - ECPv5.16.4//NONSGML v1.0//EN
CALSCALE:GREGORIAN
METHOD:PUBLISH
X-WR-CALNAME:Fourmidables
X-ORIGINAL-URL:https://fourmidables.com
X-WR-CALDESC:évènements pour Fourmidables
REFRESH-INTERVAL;VALUE=DURATION:PT1H
X-Robots-Tag:noindex
X-PUBLISHED-TTL:PT1H
BEGIN:VTIMEZONE
TZID:Europe/Paris
BEGIN:DAYLIGHT
TZOFFSETFROM:+0100
TZOFFSETTO:+0200
TZNAME:CEST
DTSTART:20220327T010000
END:DAYLIGHT
BEGIN:STANDARD
TZOFFSETFROM:+0200
TZOFFSETTO:+0100
TZNAME:CET
DTSTART:20221030T010000
END:STANDARD
END:VTIMEZONE
BEGIN:VEVENT
DTSTART;TZID=Europe/Paris:20220514T140000
DTEND;TZID=Europe/Paris:20220514T160000
DTSTAMP:20260423T192940
CREATED:20220317T094826Z
LAST-MODIFIED:20220317T094828Z
UID:3907-1652536800-1652544000@fourmidables.com
SUMMARY:Les Samedis Minuscules - 14 Mai 2022
DESCRIPTION:Un après-midi d’éveil à la nature en famille lors de nos « samedis minuscules » est la promesse d’un moment unique ! \nDes activités parents-enfants pour partager un moment unique autour de la nature. \nAu programme\, une animation sur les insectes\, suivie pour les parents qui le souhaitent d’une dégustation des vins du domaine. \n\nThème du jour : Le Grand Réveil de la Nature\n\nL’éveil à la nature se fait dès le plus jeune âge et participe au bon développement des enfants. Apprendre à reconnaitre les éléments naturels qui nous entourent et observer les petites bêtes qui y vivent sont autant de découvertes ! Les « Samedis Minuscules » de Fourmidables sont des moments conviviaux et simples\, en pleine nature. \nPrix : 12€/enfant + 6€/adulte accompagnant. \nInformations et inscriptions : 06.73.75.61.99 / 06.65.55.54.36 / contact.fourmidables@gmail.com \nLieu : Château Boutinet\, 1436 Route des Palombes\, 33141 Villegouge
URL:https://fourmidables.com/event/les-samedis-minuscules-14-mai-22/
LOCATION:Château Boutinet\, 1436 Route des Palombes\, Villegouge\, 33141\, France
CATEGORIES:En famille
ATTACH;FMTTYPE=image/png:https://fourmidables.com/wp-content/uploads/2022/03/miniature-samedi-minuscules-fourmidables.png
ORGANIZER;CN="Fourmidables":MAILTO:contact.fourmidables@gmail.com
END:VEVENT
END:VCALENDAR