BEGIN:VCALENDAR
VERSION:2.0
PRODID:-//Fourmidables - ECPv5.16.4//NONSGML v1.0//EN
CALSCALE:GREGORIAN
METHOD:PUBLISH
X-WR-CALNAME:Fourmidables
X-ORIGINAL-URL:https://fourmidables.com
X-WR-CALDESC:évènements pour Fourmidables
REFRESH-INTERVAL;VALUE=DURATION:PT1H
X-Robots-Tag:noindex
X-PUBLISHED-TTL:PT1H
BEGIN:VTIMEZONE
TZID:Europe/Paris
BEGIN:DAYLIGHT
TZOFFSETFROM:+0100
TZOFFSETTO:+0200
TZNAME:CEST
DTSTART:20210328T010000
END:DAYLIGHT
BEGIN:STANDARD
TZOFFSETFROM:+0200
TZOFFSETTO:+0100
TZNAME:CET
DTSTART:20211031T010000
END:STANDARD
END:VTIMEZONE
BEGIN:VEVENT
DTSTART;TZID=Europe/Paris:20210619T140000
DTEND;TZID=Europe/Paris:20210619T170000
DTSTAMP:20260424T112245
CREATED:20210609T124038Z
LAST-MODIFIED:20210618T075952Z
UID:3481-1624111200-1624122000@fourmidables.com
SUMMARY:Les Samedis Minuscules - 19 Juin 2021
DESCRIPTION:Un après-midi d’éveil à la nature en famille lors de nos « samedis minuscules » est la promesse d’un moment unique ! \nDes activités parents-enfants pour partager un moment unique autour de la nature. \nAu programme : \n\nUne activité familiale autour des insectes\nUne pause visite-dégustation du domaine viticole pour les parents\nUn atelier créatif pour les enfants\n\nL’éveil à la nature se fait dès le plus jeune âge et participe au bon développement des enfants. Apprendre à reconnaitre les éléments naturels qui nous entourent et observer les petites bêtes qui y vivent sont autant de découvertes ! Les « Samedis Minuscules » de Fourmidables sont des moments conviviaux et simples\, en pleine nature. \nA partir de 30€ (pour 1 enfant et 1 adulte) puis 25€ par enfant et 5€ par adulte supplémentaire.
URL:https://fourmidables.com/event/les-samedis-minuscules-19juin21/
LOCATION:Château Boutinet\, 1436 Route des Palombes\, Villegouge\, 33141\, France
CATEGORIES:En famille
ATTACH;FMTTYPE=image/png:https://fourmidables.com/wp-content/uploads/2021/06/samedi-minuscules-fourmidables.png
ORGANIZER;CN="Fourmidables":MAILTO:contact.fourmidables@gmail.com
END:VEVENT
END:VCALENDAR