BEGIN:VCALENDAR
VERSION:2.0
PRODID:-//Fourmidables - ECPv5.16.4//NONSGML v1.0//EN
CALSCALE:GREGORIAN
METHOD:PUBLISH
X-WR-CALNAME:Fourmidables
X-ORIGINAL-URL:https://fourmidables.com
X-WR-CALDESC:évènements pour Fourmidables
REFRESH-INTERVAL;VALUE=DURATION:PT1H
X-Robots-Tag:noindex
X-PUBLISHED-TTL:PT1H
BEGIN:VTIMEZONE
TZID:Europe/Paris
BEGIN:DAYLIGHT
TZOFFSETFROM:+0100
TZOFFSETTO:+0200
TZNAME:CEST
DTSTART:20210328T010000
END:DAYLIGHT
BEGIN:STANDARD
TZOFFSETFROM:+0200
TZOFFSETTO:+0100
TZNAME:CET
DTSTART:20211031T010000
END:STANDARD
END:VTIMEZONE
BEGIN:VEVENT
DTSTART;TZID=Europe/Paris:20210805T093000
DTEND;TZID=Europe/Paris:20210805T163000
DTSTAMP:20260424T080452
CREATED:20210609T160754Z
LAST-MODIFIED:20210723T083800Z
UID:3583-1628155800-1628181000@fourmidables.com
SUMMARY:Les Vacances Minuscules - 05 Août 2021
DESCRIPTION:Fourmidables accompagne vos enfants (6 à 12 ans) lors d’une insolite aventure dans un environnement de rêve. \nUn stage de 2 jours ou une journée vacance nature en pleine forêt et prairie qui offre l’opportunité de découvrir de nouvelles connaissances et savoir-faire tout en s’amusant. \nMalheureusement nous annulons cette journée… \nUne immersion dans un monde de sensations\, de sonorités et d’odeurs qui permettent un retour à l’essentiel. \nLe tout\, au travers d’activités variées\, liées à la nature\, aux insectes et à la créativité dans un lieu aménagé pour et par vos enfants ! \nATTENTION : APRÈS ACHAT DES BILLETS\, ENVOYEZ LA FICHE D’INSCRIPTION DUMENT REMPLIE POUR VALIDATION. \n\n\n\n\n\n\nVoir la page détaillée des vacances nature\, où vous retrouverez la fiche d’inscription à retourner par mail : https://fourmidables.com/stage-vacance-nature/ \n\n\n\n\n\n\n\n\nSi les billets ne sont pas visibles\, ils seront prochainement disponibles en ligne.
URL:https://fourmidables.com/event/les-vacances-minuscules-05-aout-2021/
LOCATION:Château Boutinet\, 1436 Route des Palombes\, Villegouge\, 33141\, France
CATEGORIES:Vacance
ATTACH;FMTTYPE=image/png:https://fourmidables.com/wp-content/uploads/2021/06/place-minuscules-fourmidables.png
ORGANIZER;CN="Fourmidables":MAILTO:contact.fourmidables@gmail.com
END:VEVENT
BEGIN:VEVENT
DTSTART;TZID=Europe/Paris:20210812T093000
DTEND;TZID=Europe/Paris:20210812T163000
DTSTAMP:20260424T080452
CREATED:20210609T161152Z
LAST-MODIFIED:20210723T083600Z
UID:3589-1628760600-1628785800@fourmidables.com
SUMMARY:Les Vacances Minuscules - 12 Août 2021
DESCRIPTION:Fourmidables accompagne vos enfants (6 à 12 ans) lors d’une insolite aventure dans un environnement de rêve. \nUn stage de 2 jours ou une journée vacance nature en pleine forêt et prairie qui offre l’opportunité de découvrir de nouvelles connaissances et savoir-faire tout en s’amusant. \nMalheureusement nous annulons cette journée… \nUne immersion dans un monde de sensations\, de sonorités et d’odeurs qui permettent un retour à l’essentiel. \nLe tout\, au travers d’activités variées\, liées à la nature\, aux insectes et à la créativité dans un lieu aménagé pour et par vos enfants ! \nATTENTION : APRÈS ACHAT DES BILLETS\, ENVOYEZ LA FICHE D’INSCRIPTION DUMENT REMPLIE POUR VALIDATION. \n\n\n\n\n\n\nVoir la page détaillée des vacances nature\, où vous retrouverez la fiche d’inscription à retourner par mail : https://fourmidables.com/stage-vacance-nature/ \n\n\n\n\n\n\n\n\nSi les billets ne sont pas visibles\, ils seront prochainement disponibles en ligne.
URL:https://fourmidables.com/event/les-vacances-minuscules-12-aout-2021/
LOCATION:Château Boutinet\, 1436 Route des Palombes\, Villegouge\, 33141\, France
CATEGORIES:Vacance
ATTACH;FMTTYPE=image/png:https://fourmidables.com/wp-content/uploads/2021/06/place-minuscules-fourmidables.png
ORGANIZER;CN="Fourmidables":MAILTO:contact.fourmidables@gmail.com
END:VEVENT
BEGIN:VEVENT
DTSTART;TZID=Europe/Paris:20210814T140000
DTEND;TZID=Europe/Paris:20210814T170000
DTSTAMP:20260424T080452
CREATED:20210609T145022Z
LAST-MODIFIED:20210723T083328Z
UID:3535-1628949600-1628960400@fourmidables.com
SUMMARY:Les Samedis Minuscules - 14 Août 2021
DESCRIPTION:Un après-midi d’éveil à la nature en famille lors de nos « samedis minuscules » est la promesse d’un moment unique ! \nDes activités parents-enfants pour partager un moment unique autour de la nature. \nMalheureusement nous annulons cette journée… \nAu programme : \n\nUne activité familiale autour des insectes\nUne pause visite-dégustation du domaine viticole pour les parents\nUn atelier créatif pour les enfants\n\nL’éveil à la nature se fait dès le plus jeune âge et participe au bon développement des enfants. Apprendre à reconnaitre les éléments naturels qui nous entourent et observer les petites bêtes qui y vivent sont autant de découvertes ! Les « Samedis Minuscules » de Fourmidables sont des moments conviviaux et simples\, en pleine nature. \nA partir de 30€ (pour 1 enfant et 1 adulte) puis 25€ par enfant et 5€ par adulte supplémentaire. \n\n\n\n\n\n\n\n\nSi les billets ne sont pas visibles\, ils seront prochainement disponibles en ligne.
URL:https://fourmidables.com/event/les-samedis-minuscules-14-aout-2021/
LOCATION:Château Boutinet\, 1436 Route des Palombes\, Villegouge\, 33141\, France
CATEGORIES:En famille
ATTACH;FMTTYPE=image/png:https://fourmidables.com/wp-content/uploads/2021/06/samedi-minuscules-fourmidables.png
ORGANIZER;CN="Fourmidables":MAILTO:contact.fourmidables@gmail.com
END:VEVENT
END:VCALENDAR